BEGIN:VCALENDAR
VERSION:2.0
PRODID:-//Xray Home - ECPv6.15.20//NONSGML v1.0//EN
CALSCALE:GREGORIAN
METHOD:PUBLISH
X-WR-CALNAME:Xray Home
X-ORIGINAL-URL:https://xrayhome.co.uk
X-WR-CALDESC:Events for Xray Home
REFRESH-INTERVAL;VALUE=DURATION:PT1H
X-Robots-Tag:noindex
X-PUBLISHED-TTL:PT1H
BEGIN:VTIMEZONE
TZID:Europe/Paris
BEGIN:DAYLIGHT
TZOFFSETFROM:+0100
TZOFFSETTO:+0200
TZNAME:CEST
DTSTART:20240331T010000
END:DAYLIGHT
BEGIN:STANDARD
TZOFFSETFROM:+0200
TZOFFSETTO:+0100
TZNAME:CET
DTSTART:20241027T010000
END:STANDARD
BEGIN:DAYLIGHT
TZOFFSETFROM:+0100
TZOFFSETTO:+0200
TZNAME:CEST
DTSTART:20250330T010000
END:DAYLIGHT
BEGIN:STANDARD
TZOFFSETFROM:+0200
TZOFFSETTO:+0100
TZNAME:CET
DTSTART:20251026T010000
END:STANDARD
BEGIN:DAYLIGHT
TZOFFSETFROM:+0100
TZOFFSETTO:+0200
TZNAME:CEST
DTSTART:20260329T010000
END:DAYLIGHT
BEGIN:STANDARD
TZOFFSETFROM:+0200
TZOFFSETTO:+0100
TZNAME:CET
DTSTART:20261025T010000
END:STANDARD
END:VTIMEZONE
BEGIN:VEVENT
DTSTART;TZID=Europe/Paris:20251108T080000
DTEND;TZID=Europe/Paris:20251109T170000
DTSTAMP:20260421T141447
CREATED:20251104T234639Z
LAST-MODIFIED:20251104T235515Z
UID:17110-1762588800-1762707600@xrayhome.co.uk
SUMMARY:Knight Dragon - Xray Home Istanbul Lansman 2025
DESCRIPTION:Greenwich Peninsula İstanbul’da Yatırımcılarla Buluşuyor! 🌉 \nLondra’nın en prestijli nehir kenarı yaşam projesi\, şimdi İstanbul’da! ✨\nGreenwich Peninsula’nın kalbinde yer alan Peninsula Riverfront\, modern mimarisi ve Thames Nehri manzarasıyla fark yaratan bir yatırım fırsatı sunuyor. \n8–9 Kasım’da Raffles İstanbul’da gerçekleşecek özel lansman etkinliğimizde bu benzersiz projeyi yakından tanımak ve yatırım fırsatlarını keşfetmek için sizi özel lansmanımıza davet ediyoruz. \n📅 8–9 Kasım 2025\n📍 Raffles İstanbul – Zorlu Center\, Levazım\n🕙 10:00 – 18:00 \nKatılım için bizimle iletişime geçmeyi unutmayın.\n📞 +44 741 754 06 41\n📞 +90 551 845 83 41 (WhatsApp)\n📧 contact@xrayhome.co.uk\n🌍 xrayhome.co.uk \n✨ Sizleri ağırlamaktan onur duyarız! \n#GreenwichPeninsula #PeninsulaRiverfront #KnightDragon #LondraYatırımı #İstanbulEtkinliği #XRayHome #YatırımFırsatları #LondonProperty #RafflesIstanbul #GayrimenkulYatırımı #LondraProjeleri
URL:https://xrayhome.co.uk/event/greenwich-peninsula-istanbulda-yatirimcilarla-bulusuyor/
LOCATION:Raffles Istanbul\, Zorlu Center\, Levazım\, Vadi Cd\, Beşiktaş\, İstanbul\, 34340\, Turkey
ATTACH;FMTTYPE=image/jpeg:https://xrayhome.co.uk/wp-content/uploads/2025/11/Knight-Dragon-Istanbul-2025.jpeg
END:VEVENT
BEGIN:VEVENT
DTSTART;TZID=Europe/Paris:20251122T080000
DTEND;TZID=Europe/Paris:20251123T170000
DTSTAMP:20260421T141447
CREATED:20251104T234955Z
LAST-MODIFIED:20251104T235533Z
UID:17115-1763798400-1763917200@xrayhome.co.uk
SUMMARY:Xray Home - Barratt London Lansman 2025
DESCRIPTION:WEMBLEY PARK GARDENS ANTALYA LANSMANINDA \nModern yaşam\, yüksek kira potansiyeli ve güçlü yatırım fırsatlarıyla Wembley Park Gardens projesi Antalya lansmanında yatırımcılarla buluşuyor. \nLondra’nın en prestijli yaşam projeleri arasında yer alan Hendon Waterside\, Royal Gateway projelerini de bu etkinlikte yakından tanıma fırsatını kaçırmayın! \nBu özel tanıtımda:\n🔹 Projeleri inceleme fırsatı\n🔹 Size özel ödeme planları ve lansman avantajları\n🔹 Birebir yatırım danışmanlığı\n🔹 İngiltere gayrimenkul piyasasına dair güncel bilgiler sizleri bekliyor. \n📅 22–23 Kasım 2025\n🕙 10:00 – 18:00\n📍 Antalya Şehir Merkezi | DoubleTree by Hilton Otel \nLondra’daki ayrıcalıklı yaşam ve yatırım fırsatlarını yakından tanımak için bu özel etkinlikte yerinizi alın. \nKatılım için bizimle iletişime geçmeyi unutmayın.\n📞 +44 741 754 06 41\n📞 +90 551 845 83 41 (WhatsApp)\n📧 contact@xrayhome.co.uk\n🌍 xrayhome.co.uk \n#XRayHome #BarrattLondon #AntalyaLansman #LondraProjeleri #HendonWaterside #WembleyParkGardens #RoyalGateway #TheLanes #LondraGayrimenkul #YatırımFırsatı #PropertyInvestment #LuxuryLiving
URL:https://xrayhome.co.uk/event/barratt-london-antalya-lansman-2025/
LOCATION:DoubleTree by Hilton Antalya City Centre\, Etiler\, Adnan Menderes Blv. No:61\, 07010 Muratpaşa\, Antalya\, 07010\, Turkey
ATTACH;FMTTYPE=image/jpeg:https://xrayhome.co.uk/wp-content/uploads/2025/11/Barratt-Antalya-2025.jpeg
ORGANIZER;CN="Xray Home":MAILTO:contact@xrayhome.co.uk
END:VEVENT
BEGIN:VEVENT
DTSTART;TZID=Europe/Paris:20251129T080000
DTEND;TZID=Europe/Paris:20251130T170000
DTSTAMP:20260421T141447
CREATED:20251104T235656Z
LAST-MODIFIED:20251104T235747Z
UID:17122-1764403200-1764522000@xrayhome.co.uk
SUMMARY:Xray Home - Barratt London Ankara Lansman 2025
DESCRIPTION:Londra’nın kalbindeki yatırım fırsatları şimdi Ankara’da! 🏙 \nYüksek kira getirisi ve güçlü yatırım potansiyeliyle öne çıkan Barratt London’ın prestijli projesi Bermondsey Heights\, 29–30 Kasım’da Mövenpick Hotel Ankara’da yatırımcılarla buluşuyor. ✨ \nLondra’nın prestijli yaşam projeleri arasında yer alan Eastman Village\, Hayes Village ve Hendon Waterside projelerini de bu etkinlikte yakından tanıma fırsatını kaçırmayın! \n📅 29–30 Kasım 2025\n🕙 10:00 – 18:00\n📍 Mövenpick Hotel Ankara \nKatılım için bizimle iletişime geçmeyi unutmayın.\n📞 ‪+44 741 754 06 41‬\n📞 ‪+90 551 845 83 41‬ (WhatsApp)\n📧 contact@xrayhome.co.uk\n🌍 xrayhome.co.uk \n#BarrattLondon #XRayHome #BermondseyHeights #AnkaraEtkinliği #LondraYatırımı #YatırımFırsatları #UKProperty #LondraGayrimenkul #AnkaraYatırım #MövenpickAnkara #PropertyInvestment #LondonRealEstate
URL:https://xrayhome.co.uk/event/xray-home-barratt-london-ankara-lansman-2025/
LOCATION:Mövenpick Ankara\, Bestepeler Mah\, Söğütözü\, Yaşam Cd. No:1\, Cankaya\, Ankara\, 06520\, Turkey
ATTACH;FMTTYPE=image/jpeg:https://xrayhome.co.uk/wp-content/uploads/2025/11/Barrat-Ankara-2025.jpeg
ORGANIZER;CN="Xray Home":MAILTO:contact@xrayhome.co.uk
END:VEVENT
END:VCALENDAR