BEGIN:VCALENDAR
VERSION:2.0
PRODID:-//Xray Home - ECPv6.15.20//NONSGML v1.0//EN
CALSCALE:GREGORIAN
METHOD:PUBLISH
X-ORIGINAL-URL:https://xrayhome.co.uk
X-WR-CALDESC:Events for Xray Home
REFRESH-INTERVAL;VALUE=DURATION:PT1H
X-Robots-Tag:noindex
X-PUBLISHED-TTL:PT1H
BEGIN:VTIMEZONE
TZID:Europe/Paris
BEGIN:DAYLIGHT
TZOFFSETFROM:+0100
TZOFFSETTO:+0200
TZNAME:CEST
DTSTART:20250330T010000
END:DAYLIGHT
BEGIN:STANDARD
TZOFFSETFROM:+0200
TZOFFSETTO:+0100
TZNAME:CET
DTSTART:20251026T010000
END:STANDARD
BEGIN:DAYLIGHT
TZOFFSETFROM:+0100
TZOFFSETTO:+0200
TZNAME:CEST
DTSTART:20260329T010000
END:DAYLIGHT
BEGIN:STANDARD
TZOFFSETFROM:+0200
TZOFFSETTO:+0100
TZNAME:CET
DTSTART:20261025T010000
END:STANDARD
BEGIN:DAYLIGHT
TZOFFSETFROM:+0100
TZOFFSETTO:+0200
TZNAME:CEST
DTSTART:20270328T010000
END:DAYLIGHT
BEGIN:STANDARD
TZOFFSETFROM:+0200
TZOFFSETTO:+0100
TZNAME:CET
DTSTART:20271031T010000
END:STANDARD
END:VTIMEZONE
BEGIN:VEVENT
DTSTART;TZID=Europe/Paris:20260406T170000
DTEND;TZID=Europe/Paris:20260406T170000
DTSTAMP:20260421T230935
CREATED:20260317T004911Z
LAST-MODIFIED:20260401T113605Z
UID:17336-1775494800-1775494800@xrayhome.co.uk
SUMMARY:Xray Home – London Square Event in Istanbul Atasehir Golf Club 6 April 2026
DESCRIPTION:Londra’nın kalbindeki yatırım fırsatları şimdi İstanbul’da!  \nYüksek kira getirisi ve güçlü yatırım potansiyeliyle öne çıkan London Square’ın prestijli projeleri\, 6 Nisan 2026’da Ataşehir Golf Kulübünde yapılacak özel bir etkinlikle yatırımcılarla buluşuyor.  \nKatılım için bizimle iletişime geçmeyi unutmayın. \nŞeniz Öner \n +90 532 366 6221\n seniz.oner@xrayhome.co.uk\n xrayhome.co.uk \n#LondonSquareLondon #XRayHome #LondraYatırımı #YatırımFırsatları #UKProperty #LondraGayrimenkul #AtasehirGolfClub #PropertyInvestment #LondonRealEstate
URL:https://xrayhome.co.uk/event/xrayhome-lsq-atasehir-golf-club-6-april-2026/
LOCATION:Istanbul Atasehir Golf Club\, Atatürk\, Atapark Cd No:4\, Ataşehir\, İstanbul\, 34758
ATTACH;FMTTYPE=image/webp:https://xrayhome.co.uk/wp-content/uploads/2026/03/LSQAtasehirGolfClub-5.webp
ORGANIZER;CN="Xray Home":MAILTO:contact@xrayhome.co.uk
END:VEVENT
BEGIN:VEVENT
DTSTART;TZID=Europe/Paris:20260410T170000
DTEND;TZID=Europe/Paris:20260410T200000
DTSTAMP:20260421T230935
CREATED:20260325T122201Z
LAST-MODIFIED:20260407T234707Z
UID:17348-1775840400-1775851200@xrayhome.co.uk
SUMMARY:Xray Home – Barratt London Event in Istanbul Atasehir Golf Club 10 April 2026
DESCRIPTION:Londra’nın kalbindeki yatırım fırsatları şimdi İstanbul’da!  \nYüksek kira getirisi ve güçlü yatırım potansiyeliyle öne çıkan Barratt London’ın prestijli projeleri\, 10 Nisan 2026’da Ataşehir Golf Kulübünde yapılacak özel bir etkinlikle yatırımcılarla buluşuyor.  \nKatılım için bizimle iletişime geçmeyi unutmayın. \n +44 204 634 3273\n +44 772 357 0099\n +90 551 845 83 41 (WhatsApp)\n info@xrayhome.co.uk\n xrayhome.co.uk \n#BarrattLondon #XRayHome #LondraYatırımı #YatırımFırsatları #UKProperty #LondraGayrimenkul #AtasehirGolfClub #PropertyInvestment #LondonRealEstate
URL:https://xrayhome.co.uk/event/xray-home-barratt-london-event-in-istanbul-atasehir-golf-club-10-april-2026/
LOCATION:Istanbul Atasehir Golf Club\, Atatürk\, Atapark Cd No:4\, Ataşehir\, İstanbul\, 34758
ATTACH;FMTTYPE=image/webp:https://xrayhome.co.uk/wp-content/uploads/2026/03/barratlondon06-04.webp
END:VEVENT
BEGIN:VEVENT
DTSTART;TZID=Europe/Paris:20260425T080000
DTEND;TZID=Europe/Paris:20260426T190000
DTSTAMP:20260421T230935
CREATED:20260312T132647Z
LAST-MODIFIED:20260410T233543Z
UID:17317-1777104000-1777230000@xrayhome.co.uk
SUMMARY:Xray Home – London Square Event in Ankara 25-26 April 2026
DESCRIPTION:Londra’nın kalbindeki yatırım fırsatları şimdi Ankara’da! 🏙 \nYüksek kira getirisi ve güçlü yatırım potansiyeliyle öne çıkan London Square’ın prestijli projeleri\, 25-26 Nisan 2026’da Sheraton Ankara Hotel & Convention Center’da yatırımcılarla buluşuyor. ✨ \nKatılım için bizimle iletişime geçmeyi unutmayın. \n📞 +44 204 634 3273\n📞 +44 772 357 0099\n📞 +90 542 240 86 84 (WhatsApp)\n📧 info@xrayhome.co.uk\n🌍 xrayhome.co.uk \n#LondonSquareLondon #XRayHome #LondraYatırımı #YatırımFırsatları #UKProperty #LondraGayrimenkul #TheSheratonAnkara #PropertyInvestment #LondonRealEstate #Ankara
URL:https://xrayhome.co.uk/event/lsq-ankara-event-04-26/
LOCATION:Sheraton Ankara Hotel & Convention Center\, Gaziosmanpaşa\, Şht. Ömer Haluk Sipahioğlu Sk.\, Kavaklidere\, Ankara\, 06700\, Turkey
ATTACH;FMTTYPE=image/webp:https://xrayhome.co.uk/wp-content/uploads/2026/04/lsq-06-04-26-1.webp
ORGANIZER;CN="Xray Home":MAILTO:contact@xrayhome.co.uk
END:VEVENT
BEGIN:VEVENT
DTSTART;TZID=Europe/Paris:20260428T170000
DTEND;TZID=Europe/Paris:20260428T200000
DTSTAMP:20260421T230935
CREATED:20260414T210558Z
LAST-MODIFIED:20260414T230456Z
UID:17384-1777395600-1777406400@xrayhome.co.uk
SUMMARY:Xray Home – London Square Mayfair Event on 28th April
DESCRIPTION:✨ A rare opportunity to explore a premium residential project designed for both lifestyle and long-term investment in London. \n📅 Event Date: 28 April 2026 \n⏰ Time: 17:00 – 20:00 \n📍 Location: London Square Mayfair Office \n3rd Floor\, 21–25 Bruton Place\, Mayfair\, W1J 6NB \n📩 Contact X-Ray Home to reserve your place and learn more about this opportunity. \n📞 +44 204 634 3273\n📞 +44 772 357 0099\n📧 info@xrayhome.co.uk\n🌍 xrayhome.co.uk \n#UKPropertyInvestment #LondonProperty #UKRealEstate #PropertyInvestorUK \n#LSQHomes #LondonPropertyMarket #XrayHome #LodonSquare
URL:https://xrayhome.co.uk/event/xray-home-london-square-mayfair-event-on-28th-april/
LOCATION:LSQ Mayfair Office\, 3rd Floor\, 21–25 Bruton Place\, Mayfair\, London\, W1J 6NB\, United Kingdom
ATTACH;FMTTYPE=image/webp:https://xrayhome.co.uk/wp-content/uploads/2026/04/lsq-ld-04-26.webp
END:VEVENT
BEGIN:VEVENT
DTSTART;TZID=Europe/Paris:20260509T170000
DTEND;TZID=Europe/Paris:20260509T210000
DTSTAMP:20260421T230935
CREATED:20260414T100354Z
LAST-MODIFIED:20260420T111126Z
UID:17381-1778346000-1778360400@xrayhome.co.uk
SUMMARY:Xray Home – Berkeley Group Event in Istanbul Kemer Country Club on 9th of May
DESCRIPTION:Londra’nın en prestijli bölgelerinde\, hem modern yaşamın hem de yüksek yatırım potansiyelinin kapılarını aralayan Berkeley Group projeleri\, X-Ray Home ile İstanbul’a geliyor.\n✨ Londra’da ayrıcalıklı bir yaşam ve kazançlı yatırım fırsatı\n🏙️ SQP\, Heron Wharf ve daha birçok seçkin lokasyonda projeler\n🚆 Londra’nın stratejik noktalarına mükemmel ulaşım bağlantıları\n🌿 Modern mimari\, premium yaşam alanları ve üst düzey iç mekân tasarımı\n📈 Yüksek kira getirisi ve uzun vadeli değer artışı potansiyeli\n📅 Berkeley Projeleri – Özel Lansman Etkinliği\n📍 Kemer Country Golf Club\n🗓️ Tarih: 9 Nisan 2026\n🕔 Saat: 17:00 – 21:00\nBu özel etkinlikte yerinizi ayırtmak ve projeleri yakından tanımak için bizimle iletişime geçin.\n📞 +90 532 366 6221\nseniz.oner@xrayhome.co.uk\n🌍 xrayhome.co.uk\n#XRayHome #BerkeleyGroup #LondonProperty #LondraYatırım #GayrimenkulYatırımı #LondraEmlak #IstanbulEvent #KemerCountry #PropertyInvestment
URL:https://xrayhome.co.uk/event/xray-home-berkeley-group-event-in-istanbul-kemer-country-club/
LOCATION:İstanbul Kemer Country Club\, Eyüp Merkez\, Atlı Spor Cad. Hayat Binası No:7\, Eyüpsultan\, İstanbul\, 34077\, Turkey
ATTACH;FMTTYPE=image/jpeg:https://xrayhome.co.uk/wp-content/uploads/2026/04/golf-sqp-Berkeley.jpg
ORGANIZER;CN="Xray Home":MAILTO:contact@xrayhome.co.uk
END:VEVENT
BEGIN:VEVENT
DTSTART;TZID=Europe/Paris:20260516T080000
DTEND;TZID=Europe/Paris:20260517T180000
DTSTAMP:20260421T230935
CREATED:20260312T132308Z
LAST-MODIFIED:20260420T111628Z
UID:17313-1778918400-1779040800@xrayhome.co.uk
SUMMARY:Xray Home Barratt London Ankara Event – 16-17 May 2026
DESCRIPTION:Global yatırımın kalbi Londra\, Ankara’da geleceğinize kapı açıyor. ✨ \nAvrupa’nın en prestijli adreslerinde mülk sahibi olma ve Sterlin bazlı yüksek kira getirisiyle portföyünüzü güçlendirme fırsatını keşfedin. Xray Home ve Barratt London iş birliği ile gerçekleşecek bu özel etkinlikte; Londra’nın en karlı projelerini ve güvenilir yatırım stratejilerini uzmanlarımızla yüz yüze değerlendirebilirsiniz. \nEtkinlik Detayları: \n📍 Yer: Mövenpick Hotel Ankara\n🗓️ Tarih: 16-17 Mayıs 2026\n⏰ Saat: 10:00 – 18:00 \nİletişim & Kayıt: \n📞 Türkiye: +90 542 240 86 84 (WhatsApp)\n📞 İngiltere: +44 7417 540641 | +44 2046 343 273\n📧 E-posta: info@xrayhome.co.uk\n🌐 Web: xrayhome.co.uk \n#XrayHome #LondraGayrimenkul #YatırımFırsatı #BarrattLondon #AnkaraEtkinlik
URL:https://xrayhome.co.uk/event/barratt-ankara-event-05-26/
LOCATION:Mövenpick Ankara\, Bestepeler Mah\, Söğütözü\, Yaşam Cd. No:1\, Cankaya\, Ankara\, 06520\, Turkey
ATTACH;FMTTYPE=image/jpeg:https://xrayhome.co.uk/wp-content/uploads/2026/03/bar-06-05-26.jpg
ORGANIZER;CN="Xray Home":MAILTO:contact@xrayhome.co.uk
END:VEVENT
BEGIN:VEVENT
DTSTART;TZID=Europe/Paris:20260606T080000
DTEND;TZID=Europe/Paris:20260607T190000
DTSTAMP:20260421T230935
CREATED:20260312T132744Z
LAST-MODIFIED:20260313T114439Z
UID:17319-1780732800-1780858800@xrayhome.co.uk
SUMMARY:Xray Home – London Square Event in Istanbul 6-7 June 2026
DESCRIPTION:
URL:https://xrayhome.co.uk/event/lsq-istanbul-event-06-26/
LOCATION:Ankara
ORGANIZER;CN="Xray Home":MAILTO:contact@xrayhome.co.uk
END:VEVENT
BEGIN:VEVENT
DTSTART;TZID=Europe/Paris:20260607T170000
DTEND;TZID=Europe/Paris:20260607T200000
DTSTAMP:20260421T230935
CREATED:20260325T122331Z
LAST-MODIFIED:20260409T082251Z
UID:17350-1780851600-1780862400@xrayhome.co.uk
SUMMARY:Xray Home – Mount Anvil Event in Istanbul 7 June 2026
DESCRIPTION:
URL:https://xrayhome.co.uk/event/xray-home-mount-anvil-event-in-istanbul-10-may-2026/
LOCATION:Ankara
END:VEVENT
BEGIN:VEVENT
DTSTART;TZID=Europe/Paris:20260613T080000
DTEND;TZID=Europe/Paris:20260614T190000
DTSTAMP:20260421T230935
CREATED:20260312T132844Z
LAST-MODIFIED:20260313T114424Z
UID:17321-1781337600-1781463600@xrayhome.co.uk
SUMMARY:Xray Home – London Square Event in Ankara 13-14 June 2026
DESCRIPTION:
URL:https://xrayhome.co.uk/event/lsq-ankara-event-06-26/
LOCATION:Ankara
ORGANIZER;CN="Xray Home":MAILTO:contact@xrayhome.co.uk
END:VEVENT
BEGIN:VEVENT
DTSTART;TZID=Europe/Paris:20260718T080000
DTEND;TZID=Europe/Paris:20260719T190000
DTSTAMP:20260421T230935
CREATED:20260312T132957Z
LAST-MODIFIED:20260313T114359Z
UID:17323-1784361600-1784487600@xrayhome.co.uk
SUMMARY:Xray Home – London Square Event in Bodrum 18-19 July 2026
DESCRIPTION:
URL:https://xrayhome.co.uk/event/lsq-bodrum-event-04-26/
LOCATION:Ankara
ORGANIZER;CN="Xray Home":MAILTO:contact@xrayhome.co.uk
END:VEVENT
END:VCALENDAR