BEGIN:VCALENDAR
VERSION:2.0
PRODID:-//Xray Home - ECPv6.15.20//NONSGML v1.0//EN
CALSCALE:GREGORIAN
METHOD:PUBLISH
X-WR-CALNAME:Xray Home
X-ORIGINAL-URL:https://xrayhome.co.uk
X-WR-CALDESC:Events for Xray Home
REFRESH-INTERVAL;VALUE=DURATION:PT1H
X-Robots-Tag:noindex
X-PUBLISHED-TTL:PT1H
BEGIN:VTIMEZONE
TZID:Europe/Paris
BEGIN:DAYLIGHT
TZOFFSETFROM:+0100
TZOFFSETTO:+0200
TZNAME:CEST
DTSTART:20240331T010000
END:DAYLIGHT
BEGIN:STANDARD
TZOFFSETFROM:+0200
TZOFFSETTO:+0100
TZNAME:CET
DTSTART:20241027T010000
END:STANDARD
BEGIN:DAYLIGHT
TZOFFSETFROM:+0100
TZOFFSETTO:+0200
TZNAME:CEST
DTSTART:20250330T010000
END:DAYLIGHT
BEGIN:STANDARD
TZOFFSETFROM:+0200
TZOFFSETTO:+0100
TZNAME:CET
DTSTART:20251026T010000
END:STANDARD
BEGIN:DAYLIGHT
TZOFFSETFROM:+0100
TZOFFSETTO:+0200
TZNAME:CEST
DTSTART:20260329T010000
END:DAYLIGHT
BEGIN:STANDARD
TZOFFSETFROM:+0200
TZOFFSETTO:+0100
TZNAME:CET
DTSTART:20261025T010000
END:STANDARD
BEGIN:DAYLIGHT
TZOFFSETFROM:+0100
TZOFFSETTO:+0200
TZNAME:CEST
DTSTART:20270328T010000
END:DAYLIGHT
BEGIN:STANDARD
TZOFFSETFROM:+0200
TZOFFSETTO:+0100
TZNAME:CET
DTSTART:20271031T010000
END:STANDARD
END:VTIMEZONE
BEGIN:VTIMEZONE
TZID:UTC
BEGIN:STANDARD
TZOFFSETFROM:+0000
TZOFFSETTO:+0000
TZNAME:UTC
DTSTART:20240101T000000
END:STANDARD
END:VTIMEZONE
BEGIN:VTIMEZONE
TZID:Europe/Moscow
BEGIN:STANDARD
TZOFFSETFROM:+0300
TZOFFSETTO:+0300
TZNAME:MSK
DTSTART:20230101T000000
END:STANDARD
END:VTIMEZONE
BEGIN:VEVENT
DTSTART;TZID=Europe/Paris:20260207T080000
DTEND;TZID=Europe/Paris:20260208T170000
DTSTAMP:20260421T173356
CREATED:20260106T093954Z
LAST-MODIFIED:20260110T133751Z
UID:17189-1770451200-1770570000@xrayhome.co.uk
SUMMARY:Xray Home – Binghatti Istanbul Lansman 2026
DESCRIPTION:Dubai’nin kalbindeki yatırım fırsatları şimdi İstanbul’da! 🏙 \nYüksek kira getirisi ve güçlü yatırım potansiyeliyle öne çıkan Binghatti’nin prestijli projeleri\, 7-8 Şubat’ta The Ritz Carlton’da yatırımcılarla buluşuyor. ✨ \nDubai’nin prestijli yaşam projeleri arasında yer alan projelerin bu etkinlikte yakından tanıma fırsatını kaçırmayın! \n📅 7-8 Şubat 2025\n🕙 10:00 – 18:00\n📍 The Ritz Carlton İstanbul \nKatılım için bizimle iletişime geçmeyi unutmayın.\n📞 ‪+44 741 754 06 41‬\n📞 ‪+90 551 845 83 41‬ (WhatsApp)\n📧 contact@xrayhome.co.uk\n🌍 xrayhome.co.uk \n#Binghatti #XRayHome #İstanbulEtkinliği #DubaiYatırımı #YatırımFırsatları #UAEProperty #DuabiGayrimenkul #İstanbulYatırım #TheRitzİstanbul #PropertyInvestment #DubaiRealEstate
URL:https://xrayhome.co.uk/event/xray-home-binghatti-istanbul-lansman-2026/
LOCATION:The Ritz-Carlton Istanbul\, Suzer Plaza Askerocagi Caddesi\, No:6\, 34367 Elmadag\, Şişli\, İstanbul\, 34367
ATTACH;FMTTYPE=image/jpeg:https://xrayhome.co.uk/wp-content/uploads/2026/01/Binghatti-Feb-26-Istanbul-Event.jpg
ORGANIZER;CN="Xray Home":MAILTO:contact@xrayhome.co.uk
END:VEVENT
BEGIN:VEVENT
DTSTART;TZID=Europe/Paris:20251129T080000
DTEND;TZID=Europe/Paris:20251130T170000
DTSTAMP:20260421T173356
CREATED:20251104T235656Z
LAST-MODIFIED:20251104T235747Z
UID:17122-1764403200-1764522000@xrayhome.co.uk
SUMMARY:Xray Home - Barratt London Ankara Lansman 2025
DESCRIPTION:Londra’nın kalbindeki yatırım fırsatları şimdi Ankara’da! 🏙 \nYüksek kira getirisi ve güçlü yatırım potansiyeliyle öne çıkan Barratt London’ın prestijli projesi Bermondsey Heights\, 29–30 Kasım’da Mövenpick Hotel Ankara’da yatırımcılarla buluşuyor. ✨ \nLondra’nın prestijli yaşam projeleri arasında yer alan Eastman Village\, Hayes Village ve Hendon Waterside projelerini de bu etkinlikte yakından tanıma fırsatını kaçırmayın! \n📅 29–30 Kasım 2025\n🕙 10:00 – 18:00\n📍 Mövenpick Hotel Ankara \nKatılım için bizimle iletişime geçmeyi unutmayın.\n📞 ‪+44 741 754 06 41‬\n📞 ‪+90 551 845 83 41‬ (WhatsApp)\n📧 contact@xrayhome.co.uk\n🌍 xrayhome.co.uk \n#BarrattLondon #XRayHome #BermondseyHeights #AnkaraEtkinliği #LondraYatırımı #YatırımFırsatları #UKProperty #LondraGayrimenkul #AnkaraYatırım #MövenpickAnkara #PropertyInvestment #LondonRealEstate
URL:https://xrayhome.co.uk/event/xray-home-barratt-london-ankara-lansman-2025/
LOCATION:Mövenpick Ankara\, Bestepeler Mah\, Söğütözü\, Yaşam Cd. No:1\, Cankaya\, Ankara\, 06520\, Turkey
ATTACH;FMTTYPE=image/jpeg:https://xrayhome.co.uk/wp-content/uploads/2025/11/Barrat-Ankara-2025.jpeg
ORGANIZER;CN="Xray Home":MAILTO:contact@xrayhome.co.uk
END:VEVENT
BEGIN:VEVENT
DTSTART;TZID=Europe/Paris:20251122T080000
DTEND;TZID=Europe/Paris:20251123T170000
DTSTAMP:20260421T173356
CREATED:20251104T234955Z
LAST-MODIFIED:20251104T235533Z
UID:17115-1763798400-1763917200@xrayhome.co.uk
SUMMARY:Xray Home - Barratt London Lansman 2025
DESCRIPTION:WEMBLEY PARK GARDENS ANTALYA LANSMANINDA \nModern yaşam\, yüksek kira potansiyeli ve güçlü yatırım fırsatlarıyla Wembley Park Gardens projesi Antalya lansmanında yatırımcılarla buluşuyor. \nLondra’nın en prestijli yaşam projeleri arasında yer alan Hendon Waterside\, Royal Gateway projelerini de bu etkinlikte yakından tanıma fırsatını kaçırmayın! \nBu özel tanıtımda:\n🔹 Projeleri inceleme fırsatı\n🔹 Size özel ödeme planları ve lansman avantajları\n🔹 Birebir yatırım danışmanlığı\n🔹 İngiltere gayrimenkul piyasasına dair güncel bilgiler sizleri bekliyor. \n📅 22–23 Kasım 2025\n🕙 10:00 – 18:00\n📍 Antalya Şehir Merkezi | DoubleTree by Hilton Otel \nLondra’daki ayrıcalıklı yaşam ve yatırım fırsatlarını yakından tanımak için bu özel etkinlikte yerinizi alın. \nKatılım için bizimle iletişime geçmeyi unutmayın.\n📞 +44 741 754 06 41\n📞 +90 551 845 83 41 (WhatsApp)\n📧 contact@xrayhome.co.uk\n🌍 xrayhome.co.uk \n#XRayHome #BarrattLondon #AntalyaLansman #LondraProjeleri #HendonWaterside #WembleyParkGardens #RoyalGateway #TheLanes #LondraGayrimenkul #YatırımFırsatı #PropertyInvestment #LuxuryLiving
URL:https://xrayhome.co.uk/event/barratt-london-antalya-lansman-2025/
LOCATION:DoubleTree by Hilton Antalya City Centre\, Etiler\, Adnan Menderes Blv. No:61\, 07010 Muratpaşa\, Antalya\, 07010\, Turkey
ATTACH;FMTTYPE=image/jpeg:https://xrayhome.co.uk/wp-content/uploads/2025/11/Barratt-Antalya-2025.jpeg
ORGANIZER;CN="Xray Home":MAILTO:contact@xrayhome.co.uk
END:VEVENT
BEGIN:VEVENT
DTSTART;TZID=Europe/Paris:20251108T080000
DTEND;TZID=Europe/Paris:20251109T170000
DTSTAMP:20260421T173356
CREATED:20251104T234639Z
LAST-MODIFIED:20251104T235515Z
UID:17110-1762588800-1762707600@xrayhome.co.uk
SUMMARY:Knight Dragon - Xray Home Istanbul Lansman 2025
DESCRIPTION:Greenwich Peninsula İstanbul’da Yatırımcılarla Buluşuyor! 🌉 \nLondra’nın en prestijli nehir kenarı yaşam projesi\, şimdi İstanbul’da! ✨\nGreenwich Peninsula’nın kalbinde yer alan Peninsula Riverfront\, modern mimarisi ve Thames Nehri manzarasıyla fark yaratan bir yatırım fırsatı sunuyor. \n8–9 Kasım’da Raffles İstanbul’da gerçekleşecek özel lansman etkinliğimizde bu benzersiz projeyi yakından tanımak ve yatırım fırsatlarını keşfetmek için sizi özel lansmanımıza davet ediyoruz. \n📅 8–9 Kasım 2025\n📍 Raffles İstanbul – Zorlu Center\, Levazım\n🕙 10:00 – 18:00 \nKatılım için bizimle iletişime geçmeyi unutmayın.\n📞 +44 741 754 06 41\n📞 +90 551 845 83 41 (WhatsApp)\n📧 contact@xrayhome.co.uk\n🌍 xrayhome.co.uk \n✨ Sizleri ağırlamaktan onur duyarız! \n#GreenwichPeninsula #PeninsulaRiverfront #KnightDragon #LondraYatırımı #İstanbulEtkinliği #XRayHome #YatırımFırsatları #LondonProperty #RafflesIstanbul #GayrimenkulYatırımı #LondraProjeleri
URL:https://xrayhome.co.uk/event/greenwich-peninsula-istanbulda-yatirimcilarla-bulusuyor/
LOCATION:Raffles Istanbul\, Zorlu Center\, Levazım\, Vadi Cd\, Beşiktaş\, İstanbul\, 34340\, Turkey
ATTACH;FMTTYPE=image/jpeg:https://xrayhome.co.uk/wp-content/uploads/2025/11/Knight-Dragon-Istanbul-2025.jpeg
END:VEVENT
BEGIN:VEVENT
DTSTART;TZID=UTC:20251011T110000
DTEND;TZID=UTC:20251012T190000
DTSTAMP:20260421T173356
CREATED:20251004T233204Z
LAST-MODIFIED:20251004T233828Z
UID:17058-1760180400-1760295600@xrayhome.co.uk
SUMMARY:Xray Home - Hill Group Bursa Lansmanı!
DESCRIPTION:Londra\, Cambridge ve Oxford’un en prestijli projeleri; ödüllü ve beş yıldızlı konut inşaat firması Hill Group imzasıyla şimdi Bursa’da yatırımcılarla buluşuyor. \nModern mimarisi\, geniş yeşil alanları ve topluluk yaşamını destekleyen sosyal donatılarıyla ayrıcalıklı bir yaşam sunan bu projeleri keşfetmek için sizleri özel lansmanımıza davet ediyoruz. \n📅 11-12 Ekim 2025\n⏰ 10:00 – 18:00\n📍 Marigold Thermal & Spa Hotel\, Osmangazi / Bursa \n📣Katılımlar ücretsiz fakat kontenjanlar sınırlı\, randevu almayı unutmayın!\n💌Detaylı bilgi ve randevu için Emlak Talep Formu: https://xrayhome.co.uk/lansman/ \n📞 +44 741 754 06 41\n📱 +90 551 845 83 41 (WhatsApp)\n📧 contact@xrayhome.co.uk\n🌍 xrayhome.co.uk \n#LondraProjeleri #BursaLansman #YatırımFırsatları #LondraYatırım #YurtDışıYatırım #LondraEmlak #İstanbulEtkinlik #XrayHome #LondraHayali #LondraÜniversite #Oxford #Cambridge #London #LondonBridge #marigoldthermal #marigoldhotel #bursaotel \n 
URL:https://xrayhome.co.uk/event/xray-home-hill-group-bursa-lansmani/
LOCATION:Marigold Thermal & Spa Hotel\, Osmangazi / Bursa\, 1.murat Cad.57 16070\, Çekirge\, 16050 Osmangazi̇/Bursa\, Türkiye\, Osmangazi̇\, Bursa\, Turkey
ATTACH;FMTTYPE=image/webp:https://xrayhome.co.uk/wp-content/uploads/2025/10/The-Hill-Xray-Home-Exclusive-Invitation-Bursa.webp
END:VEVENT
BEGIN:VEVENT
DTSTART;TZID=Europe/Paris:20250927T110000
DTEND;TZID=Europe/Paris:20250928T180000
DTSTAMP:20260421T173356
CREATED:20251006T233007Z
LAST-MODIFIED:20251006T233007Z
UID:17081-1758970800-1759082400@xrayhome.co.uk
SUMMARY:Xray Home & The Hill Group Ankara Lansman 2025
DESCRIPTION:🏡 İngiltere’de Ev Sahibi Olmak İster misiniz? 🇬🇧✨ \nİngiltere’nin en prestijli inşaat firmalarından The Hill Grup’un sunduğu yatırım fırsatlarını keşfetmek için sizi özel lansmanımıza davet ediyoruz! 🎉 \n📍 Mövenpick Ankara\n📅 27 – 28 Eylül 2025\n🕚 11:00 – 19:00 \nLondra\, Cambridge ve Oxford’da güvenli yatırım ve ayrıcalıklı yaşam fırsatlarını yakalamak için siz de aramızda olun. 🌍🤝 \n📲 Bilgi & Kayıt için:\n📞 +44 741 754 06 41\n📞 +90 551 845 83 41 (WhatsApp)\n📧 contact@xrayhome.co.uk\n🌍 xrayhome.co.uk \n✨ Sizleri ağırlamaktan onur duyarız! \n#Londra #Yatırım #Gayrimenkul #HillGroup #XRayHomeLondon #AnkaraEtkinlik
URL:https://xrayhome.co.uk/event/xray-home-the-hill-group-ankara-lansman-2025/
LOCATION:Mövenpick Ankara\, Bestepeler Mah\, Söğütözü\, Yaşam Cd. No:1\, Cankaya\, Ankara\, 06520\, Turkey
ATTACH;FMTTYPE=image/webp:https://xrayhome.co.uk/wp-content/uploads/2025/10/Hill-Ankara-Movempick-1.webp
END:VEVENT
BEGIN:VEVENT
DTSTART;TZID=Europe/Paris:20250920T110000
DTEND;TZID=Europe/Paris:20250921T180000
DTSTAMP:20260421T173356
CREATED:20251006T233301Z
LAST-MODIFIED:20251006T233301Z
UID:17084-1758366000-1758477600@xrayhome.co.uk
SUMMARY:Xray Home & The Hill Group Istanbul Lansman 2025
DESCRIPTION:🇬🇧Londra Projeleri İstanbul Lansmanında!🇹🇷 \nLondra’da doğayla iç içe\, huzurlu ve güvenli bir yaşam hayal edenler için yepyeni fırsatlar! \nModern mimarisi\, geniş yeşil alanları ve topluluk yaşamını destekleyen sosyal donatılarıyla birbirinden özel Londra projeleri sizleri bekliyor. \nProjeyi yakından tanımak için lansman etkinliğimize davetlisiniz! \n📅 Tarih: 20–21 Eylül 2025\n🕙 Saat: 11:00 – 19:00\n📍 Raffles Hotel / İstanbul \n✅ Katılım ücretsizdir.\n📢 Kontenjan sınırlıdır\, randevu ile katılım sağlanır. \n💌 Hemen kayıt olun! \n📞 Detaylı bilgi ve randevu için: 💌 Emlak Talep Formu: https://xrayhome.co.uk/lansman/ \n📞 +44 741 754 06 41\n📞 +90 551 845 83 41 (WhatsApp)\n📧 contact@xrayhome.co.uk\n🌍 xrayhome.co.uk \n🏙 Londra’da yatırım fırsatını kaçırmayın! \n#LondraProjeleri #İstanbulLansman #YatırımFırsatları #LondraYatırım #Gayrimenkul #YurtDışıYatırım #LondraEmlak #Yatırım #İstanbulEtkinlik #RafflesHotel #XrayHome #DoğaylaİçİçeYaşam #LondraHayali
URL:https://xrayhome.co.uk/event/xray-home-the-hill-group-istanbul-lansman-2025/
LOCATION:Raffles Istanbul\, Zorlu Center\, Levazım\, Vadi Cd\, Beşiktaş\, İstanbul\, 34340\, Turkey
ATTACH;FMTTYPE=image/webp:https://xrayhome.co.uk/wp-content/uploads/2025/10/The-Hill-Xray-Home-Exclusive-Invitation-Istanbul-2.webp
END:VEVENT
BEGIN:VEVENT
DTSTART;TZID=Europe/Paris:20250912T100000
DTEND;TZID=Europe/Paris:20250913T170000
DTSTAMP:20260421T173356
CREATED:20251006T233532Z
LAST-MODIFIED:20251006T233532Z
UID:17087-1757671200-1757782800@xrayhome.co.uk
SUMMARY:Xray Home & Barratt London\, Istanbul Lansman 2025
DESCRIPTION:🇬🇧 XRay Home İstanbul’da! 🇹🇷 \nLondra’da İngiltere bankalarından kredi çekerek veya peşin alarak ev sahibi olmak ister misiniz? \n12-13 Eylül 2025’te\, İstanbul’un prestijli Ritz Carlton otelinde düzenlenecek Invest in London 2025 etkinliğine sizi davet ediyoruz. Bu buluşma Londra’da yatırım yapmak isteyenler için kaçırılmayacak bir fırsat olacak! \n📅 Tarih: 12 – 13 Eylül 2025\n🕙 Saat: 10:00 – 18:00\n📍 Yer: Ritz Carlton / İstanbul \n✅ Katılım ücretsizdir.\n📢 Kontenjan sınırlıdır\, randevu ile katılım sağlanır. \n💌 Hemen kayıt olun: https://xrayhome.co.uk/barratt-london-istanbul-lansman/ \n📞 +44 741 754 06 41\n📞 +90 551 845 83 41 (WhatsApp)\n📧 contact@xrayhome.co.uk\n🌍 xrayhome.co.uk \n🏙 Londra’da yatırım fırsatını kaçırmayın!
URL:https://xrayhome.co.uk/event/xray-home-barratt-london-istanbul-lansman-2025/
LOCATION:The Ritz-Carlton Istanbul\, Suzer Plaza Askerocagi Caddesi\, No:6\, 34367 Elmadag\, Şişli\, İstanbul\, 34367
ATTACH;FMTTYPE=image/webp:https://xrayhome.co.uk/wp-content/uploads/2025/10/Invest-in-London-1.webp
END:VEVENT
BEGIN:VEVENT
DTSTART;TZID=UTC:20250621T100000
DTEND;TZID=UTC:20250622T180000
DTSTAMP:20260421T173356
CREATED:20250603T134814Z
LAST-MODIFIED:20251006T234127Z
UID:17026-1750500000-1750615200@xrayhome.co.uk
SUMMARY:Xray Home & Berkeley\, Bursa Lansman 2025
DESCRIPTION:Xray Home Bursalılarla Buluşuyor! \n📅 Tarih: 21-22 Haziran 2025🕙 Saat: 10:00 – 19:00📍 Yer: Sheraton Bursa Hotel Artemis Salonu \nİngiltere’nin önde gelen konut geliştiricilerinden kredi ile ev sahibi olmak ister misiniz? \nO halde Bursa’daki özel etkinliğimizi kaçırmayın! Türkiye’deki kazançlarınızı en doğru yatırıma dönüştürebilmeniz için uzman ekibimizle sizlerle buluşuyoruz. Aklınızdaki bütün soruları mortgage brokerlarımıza sorabileceğiniz bu özel etkinliğe katılım için profilimizdeki linkten formu doldurabilirsiniz. \nKatılım ücretsizdir. Yeriniz garanti altına almak için aşağıdaki bağlantıdan kayıt olabilir veya bizimle doğrudan iletişime geçebilirsiniz. \n📢 Katılım randevu ile sınırlıdır! \n📞 Detaylı bilgi ve randevu için: 💌 Emlak Talep Formu: https://xrayhome.co.uk/lansman4\n📱 +44 741 754 06 41 📱 +90 551 845 83 41 (WhatsApp)\n📧 contact@xrayhome.co.uk 🌍 xrayhome.co.uk \n🏙 Londra’da yatırım fırsatını kaçırmayın – Hemen bizimle iletişime geçin! \n#xrayhome #xray  #londra #yatırım #ev #emlak #UKProperty #RealEstate #London #LondonRealEstate #BritishHomes #UnitedKingdom #London #BuyToLet #İngiltereEmlak #Yatirim #LondraEmlak #YatirimFirsati #İngilteredeEv #YurtdisiYatirim #İngiltereYatirim #GayrimenkulYatirim #LüksKonut #İngiltere #Londra #Bursa
URL:https://xrayhome.co.uk/event/lansman4/
LOCATION:Sheraton Bursa Hotel\, Odunluk\, Akpınar Cd. No:4\, Nilüfer\, Bursa\, 16110\, Turkey
ATTACH;FMTTYPE=image/webp:https://xrayhome.co.uk/wp-content/uploads/2025/06/Berkeley-Xray-Home-Exclusive-Invitation-Bursa.webp
END:VEVENT
BEGIN:VEVENT
DTSTART;TZID=UTC:20250531T100000
DTEND;TZID=UTC:20250601T180000
DTSTAMP:20260421T173356
CREATED:20250520T112520Z
LAST-MODIFIED:20250520T113718Z
UID:16983-1748685600-1748800800@xrayhome.co.uk
SUMMARY:Xray Home & London Square İstanbul’da Buluşuyor!
DESCRIPTION:Xray Home & London Square İstanbul’da Buluşuyor! \n📅 Tarih: 31 Mayıs – 1 Haziran 2025🕙 Saat: 10:00 – 19:00📍 Yer: Four Seasons Hotel Bosphorus\, İstanbul \nİngiltere’nin önde gelen konut geliştiricilerinden London Square\, Xray Home iş birliğiyle İstanbul’da yatırımcılarla buluşuyor! \nLondra’nın en prestijli bölgelerinde yer alan 6 seçkin projeyi keşfetme fırsatını kaçırmayın. Nine Elms\, Wandsworth Common ve Twickenham gibi lokasyonlarda\, £390\,000’dan başlayan fiyatlarla yatırım yaparak Londra’da ayrıcalıklı bir yaşamın kapılarını aralayın. \nKatılım ücretsizdir. Yeriniz garanti altına almak için aşağıdaki bağlantıdan kayıt olabilir veya bizimle doğrudan iletişime geçebilirsiniz. \n📢 Katılım randevu ile sınırlıdır! \n📞 Detaylı bilgi ve randevu için: 💌 Emlak Talep Formu: https://xrayhome.co.uk/london-square-istanbul-lansmani/ \n📱 +44 741 754 06 41 📱 +90 551 845 83 41 (WhatsApp)\n📧 contact@xrayhome.co.uk 🌍 xrayhome.co.uk \n🏙 Londra’da yatırım fırsatını kaçırmayın – Hemen bizimle iletişime geçin! \n#xrayhome #xray #lamsman #trabzon #londra #yatırım #ev #emlak
URL:https://xrayhome.co.uk/event/xray-home-london-square-istanbulda-bulusuyor/
LOCATION:Four Seasons Hotel Bosphorus\, İstanbul\, 28 Cıragan Caddesi\, Beşiktas\, istanbul\, 34249\, Turkey
ATTACH;FMTTYPE=image/jpeg:https://xrayhome.co.uk/wp-content/uploads/2025/05/May-20-2025-01_17_41-PM.jpg
END:VEVENT
BEGIN:VEVENT
DTSTART;TZID=Europe/Moscow:20241109T080000
DTEND;TZID=Europe/Moscow:20241110T170000
DTSTAMP:20260421T173356
CREATED:20241109T013927Z
LAST-MODIFIED:20251006T231819Z
UID:16894-1731139200-1731258000@xrayhome.co.uk
SUMMARY:Istanbul Luxury Real Estate Expo Summit
DESCRIPTION:We are delighted to invite you to the Luxury Real Estate Expo Summit! \n📅 Date: November 9-10\, 2024\n📍 Location: Istanbul Bosphorus Hilton Hotel\n⏰ Time: 10:00 AM – 4:00 PM \nThis exclusive event brings together local and international real estate companies. The fair hosts investors from approximately 25 countries\, including Russia\, the Gulf States\, the UK\, Germany\, and Kazakhstan. As the Xray Home family\, we warmly invite you to visit our booth at B3. \n✨ Highlights of the Fair: \n• This sales-focused fair offers a unique opportunity to connect with local and international investors.\n• Get a close look at and the opportunity to purchase some of the most prestigious projects in the real estate world.\n• An excellent platform for building new business connections and partnerships. \n💫 Don’t miss this unique opportunity! 💫 \nFor more information about the fair\, feel free to contact us. \nTo register\, please visit our website at https://xrayhome.co.uk/. \n📞 Contact:\n+44 740 256 0177\n+44 741 754 0641 \n🌐 Website: https://xrayhome.co.uk/ \n🎉 We look forward to seeing you there! 🎉 \nBest regards\, \n 
URL:https://xrayhome.co.uk/event/16894/
LOCATION:Hilton Bosphorus\, Harbiye\, Cumhuriyet Cd. No:50\, İstanbul\, Sisli\, 34367\, Turkey
ATTACH;FMTTYPE=image/png:https://xrayhome.co.uk/wp-content/uploads/2024/10/Screenshot-2024-10-26-at-08.31.43.png
END:VEVENT
BEGIN:VEVENT
DTSTART;TZID=Europe/Moscow:20241109T080000
DTEND;TZID=Europe/Moscow:20241109T170000
DTSTAMP:20260421T173356
CREATED:20241109T015408Z
LAST-MODIFIED:20241109T020035Z
UID:16899-1731139200-1731171600@xrayhome.co.uk
SUMMARY:Berkeley Group Istanbul Launch Event
DESCRIPTION:Join Berkeley Group\, the UK’s Leading Real Estate Company\, at Its Istanbul Launch Event! ✨ \nReserve Your Spot for Our Premium Event! \nDue to high demand\, we are thrilled to announce a premium event to be held on November 9-10 at Istanbul’s Swissôtel. At this event\, we will introduce Berkeley projects offering up to 6% rental yields. It’s also a unique opportunity to ask any questions about buying a home in the United Kingdom. Please get in touch with us to schedule your appointment. \nAt Our Event: \n🔗 In-depth presentation of the projects\n🔗 Information on apartment types and prices\n🔗 Details on payment options and financing\n🔗 By appointment only\, we will offer personalised presentations and consultancy services for our guests at this special event. \n\nLocation:\n📍 Swissôtel The Bosphorus Istanbul\,\nMimoza Ballroom \nDate:\n🗓 November 9-10\, 2024\n🕚 10:00 AM – 5:00 PM (BY APPOINTMENT ONLY)
URL:https://xrayhome.co.uk/event/berkeley-group-istanbul-launch-event/
LOCATION:Swissôtel The Bosphorus\, Vişnezade\, Acısu Sk. No:19\, Beşiktaş\, İstanbul\, 34357\, Turkey
ATTACH;FMTTYPE=image/png:https://xrayhome.co.uk/wp-content/uploads/2024/11/Berkley-Event-Istanbul-9-Nov-2024.png
END:VEVENT
END:VCALENDAR