BEGIN:VCALENDAR
VERSION:2.0
PRODID:-//Xray Home - ECPv6.15.20//NONSGML v1.0//EN
CALSCALE:GREGORIAN
METHOD:PUBLISH
X-ORIGINAL-URL:https://xrayhome.co.uk
X-WR-CALDESC:Events for Xray Home
REFRESH-INTERVAL;VALUE=DURATION:PT1H
X-Robots-Tag:noindex
X-PUBLISHED-TTL:PT1H
BEGIN:VTIMEZONE
TZID:Europe/Paris
BEGIN:DAYLIGHT
TZOFFSETFROM:+0100
TZOFFSETTO:+0200
TZNAME:CEST
DTSTART:20240331T010000
END:DAYLIGHT
BEGIN:STANDARD
TZOFFSETFROM:+0200
TZOFFSETTO:+0100
TZNAME:CET
DTSTART:20241027T010000
END:STANDARD
BEGIN:DAYLIGHT
TZOFFSETFROM:+0100
TZOFFSETTO:+0200
TZNAME:CEST
DTSTART:20250330T010000
END:DAYLIGHT
BEGIN:STANDARD
TZOFFSETFROM:+0200
TZOFFSETTO:+0100
TZNAME:CET
DTSTART:20251026T010000
END:STANDARD
BEGIN:DAYLIGHT
TZOFFSETFROM:+0100
TZOFFSETTO:+0200
TZNAME:CEST
DTSTART:20260329T010000
END:DAYLIGHT
BEGIN:STANDARD
TZOFFSETFROM:+0200
TZOFFSETTO:+0100
TZNAME:CET
DTSTART:20261025T010000
END:STANDARD
END:VTIMEZONE
BEGIN:VEVENT
DTSTART;TZID=Europe/Paris:20250927T110000
DTEND;TZID=Europe/Paris:20250928T180000
DTSTAMP:20260421T192916
CREATED:20251006T233007Z
LAST-MODIFIED:20251006T233007Z
UID:17081-1758970800-1759082400@xrayhome.co.uk
SUMMARY:Xray Home & The Hill Group Ankara Lansman 2025
DESCRIPTION:🏡 İngiltere’de Ev Sahibi Olmak İster misiniz? 🇬🇧✨ \nİngiltere’nin en prestijli inşaat firmalarından The Hill Grup’un sunduğu yatırım fırsatlarını keşfetmek için sizi özel lansmanımıza davet ediyoruz! 🎉 \n📍 Mövenpick Ankara\n📅 27 – 28 Eylül 2025\n🕚 11:00 – 19:00 \nLondra\, Cambridge ve Oxford’da güvenli yatırım ve ayrıcalıklı yaşam fırsatlarını yakalamak için siz de aramızda olun. 🌍🤝 \n📲 Bilgi & Kayıt için:\n📞 +44 741 754 06 41\n📞 +90 551 845 83 41 (WhatsApp)\n📧 contact@xrayhome.co.uk\n🌍 xrayhome.co.uk \n✨ Sizleri ağırlamaktan onur duyarız! \n#Londra #Yatırım #Gayrimenkul #HillGroup #XRayHomeLondon #AnkaraEtkinlik
URL:https://xrayhome.co.uk/event/xray-home-the-hill-group-ankara-lansman-2025/
LOCATION:Mövenpick Ankara\, Bestepeler Mah\, Söğütözü\, Yaşam Cd. No:1\, Cankaya\, Ankara\, 06520\, Turkey
ATTACH;FMTTYPE=image/webp:https://xrayhome.co.uk/wp-content/uploads/2025/10/Hill-Ankara-Movempick-1.webp
END:VEVENT
END:VCALENDAR